BEGIN:VCALENDAR
VERSION:2.0
PRODID:SchoolNow
CALSCALE:GREGORIAN
BEGIN:VEVENT
UID:86af3bec-aaaf-11f0-8022-0a58a9feac02
DTSTAMP:20251216T154516Z
SUMMARY:Photography Club - Library
URL;VALUE=URI:https://www.dg58.org/he/calendar/8726985/photography-club-lib
 rary
DTSTART:20251118T212000Z
DTEND:20251118T215500Z
END:VEVENT
END:VCALENDAR
