BEGIN:VCALENDAR
VERSION:2.0
PRODID:SchoolNow
CALSCALE:GREGORIAN
BEGIN:VEVENT
UID:86af393a-aaaf-11f0-9bbf-0a58a9feac02
DTSTAMP:20251216T154516Z
SUMMARY:Guitar Club - Room 148
URL;VALUE=URI:https://www.dg58.org/he/calendar/8726982/guitar-club-room-148
DTSTART:20260326T202000Z
DTEND:20260326T210000Z
END:VEVENT
END:VCALENDAR
