BEGIN:VCALENDAR
VERSION:2.0
PRODID:SchoolNow
CALSCALE:GREGORIAN
BEGIN:VEVENT
UID:86af3854-aaaf-11f0-94d6-0a58a9feac02
DTSTAMP:20251216T154516Z
SUMMARY:Guitar Club - Room 148
URL;VALUE=URI:https://www.dg58.org/he/calendar/8726981/guitar-club-room-148
DTSTART:20260312T202000Z
DTEND:20260312T210000Z
END:VEVENT
END:VCALENDAR
