BEGIN:VCALENDAR
VERSION:2.0
PRODID:SchoolNow
CALSCALE:GREGORIAN
BEGIN:VEVENT
UID:86af3354-aaaf-11f0-acba-0a58a9feac02
DTSTAMP:20251216T154516Z
SUMMARY:Guitar Club - Room 148
URL;VALUE=URI:https://www.dg58.org/he/calendar/8726976/guitar-club-room-148
DTSTART:20251218T212000Z
DTEND:20251218T220000Z
END:VEVENT
END:VCALENDAR
