BEGIN:VCALENDAR
VERSION:2.0
PRODID:SchoolNow
CALSCALE:GREGORIAN
BEGIN:VEVENT
UID:86a8ad18-aaaf-11f0-8970-0a58a9feac02
DTSTAMP:20251216T154516Z
SUMMARY:Photography Club - Library
URL;VALUE=URI:https://www.dg58.org/he/calendar/8726970/photography-club-lib
 rary
DTSTART:20260505T202000Z
DTEND:20260505T205500Z
END:VEVENT
END:VCALENDAR
