BEGIN:VCALENDAR
VERSION:2.0
PRODID:SchoolNow
CALSCALE:GREGORIAN
BEGIN:VEVENT
UID:86a8a98a-aaaf-11f0-94b3-0a58a9feac02
DTSTAMP:20251216T154516Z
SUMMARY:Photography Club - Library
URL;VALUE=URI:https://www.dg58.org/he/calendar/8726969/photography-club-lib
 rary
DTSTART:20260224T212000Z
DTEND:20260224T215500Z
END:VEVENT
END:VCALENDAR
