BEGIN:VCALENDAR
VERSION:2.0
PRODID:SchoolNow
CALSCALE:GREGORIAN
BEGIN:VEVENT
UID:e823cd56-a2ea-11f0-af55-0a58a9feac02
DTSTAMP:20251216T154516Z
SUMMARY:Picture Retake day
URL;VALUE=URI:https://www.dg58.org/he/calendar/8699964/picture-retake-day
DTSTART:20251014T133000Z
DTEND:20251014T163000Z
END:VEVENT
END:VCALENDAR
