BEGIN:VCALENDAR
VERSION:2.0
PRODID:SchoolNow
CALSCALE:GREGORIAN
BEGIN:VEVENT
UID:13ed3388-9fbb-11f0-8f6c-0eac7e71d517
DTSTAMP:20251216T154516Z
SUMMARY:Improv Club
URL;VALUE=URI:https://www.dg58.org/he/calendar/8687696/improv-club
DTSTART:20251111T212000Z
DTEND:20251111T220000Z
END:VEVENT
END:VCALENDAR
