BEGIN:VCALENDAR
VERSION:2.0
PRODID:SchoolNow
CALSCALE:GREGORIAN
BEGIN:VEVENT
UID:13ed3248-9fbb-11f0-8a79-0eac7e71d517
DTSTAMP:20251216T154516Z
SUMMARY:Improv Club
URL;VALUE=URI:https://www.dg58.org/he/calendar/8687695/improv-club
DTSTART:20251028T202000Z
DTEND:20251028T210000Z
END:VEVENT
END:VCALENDAR
