BEGIN:VCALENDAR
VERSION:2.0
PRODID:SchoolNow
CALSCALE:GREGORIAN
BEGIN:VEVENT
UID:1936924c-9f22-11f0-95ad-0a58a9feac02
DTSTAMP:20251216T154516Z
SUMMARY:Boys BBall tryouts 8th grade - Varsity
LOCATION:Main gym
URL;VALUE=URI:https://www.dg58.org/he/calendar/8685578/boys-bball-tryouts-8
 th-grade-varsity
DTSTART:20251105T123000Z
DTEND:20251105T140000Z
END:VEVENT
END:VCALENDAR
