BEGIN:VCALENDAR
VERSION:2.0
PRODID:SchoolNow
CALSCALE:GREGORIAN
BEGIN:VEVENT
UID:1931370c-9f22-11f0-8fa8-0a58a9feac02
DTSTAMP:20251216T154516Z
SUMMARY:Boys BBall Tryouts - 7th grade JV
LOCATION:Main gym
URL;VALUE=URI:https://www.dg58.org/he/calendar/8685574/boys-bball-tryouts-7
 th-grade-jv
DTSTART:20251029T203000Z
DTEND:20251029T220000Z
END:VEVENT
END:VCALENDAR
