BEGIN:VCALENDAR
VERSION:2.0
PRODID:SchoolNow
CALSCALE:GREGORIAN
BEGIN:VEVENT
UID:236431b0-9e56-11f0-baed-0a58a9feac02
DTSTAMP:20251216T154516Z
SUMMARY:Unplugged - Library
URL;VALUE=URI:https://www.dg58.org/he/calendar/8681889/unplugged-library
DTSTART:20260428T201700Z
DTEND:20260428T210000Z
END:VEVENT
END:VCALENDAR
