BEGIN:VCALENDAR
VERSION:2.0
PRODID:SchoolNow
CALSCALE:GREGORIAN
BEGIN:VEVENT
UID:235aecd6-9e56-11f0-93c2-0a58a9feac02
DTSTAMP:20251216T154516Z
SUMMARY:Unplugged - Library
URL;VALUE=URI:https://www.dg58.org/he/calendar/8681883/unplugged-library
DTSTART:20260113T211700Z
DTEND:20260113T220000Z
END:VEVENT
END:VCALENDAR
