BEGIN:VCALENDAR
VERSION:2.0
PRODID:SchoolNow
CALSCALE:GREGORIAN
BEGIN:VEVENT
UID:235ae222-9e56-11f0-9e90-0a58a9feac02
DTSTAMP:20251216T154516Z
SUMMARY:Herrick Hangout
URL;VALUE=URI:https://www.dg58.org/he/calendar/8681877/herrick-hangout
DTSTART:20251003T203000Z
DTEND:20251003T220000Z
END:VEVENT
END:VCALENDAR
