BEGIN:VCALENDAR
VERSION:2.0
PRODID:SchoolNow
CALSCALE:GREGORIAN
BEGIN:VEVENT
UID:3623d7ce-9d57-11f0-b18e-0a58a9feac02
DTSTAMP:20251216T154516Z
SUMMARY:Student Council Meeting - Room 075
URL;VALUE=URI:https://www.dg58.org/he/calendar/8676941/student-council-meet
 ing-room-075
DTSTART:20251203T212000Z
DTEND:20251203T215500Z
END:VEVENT
END:VCALENDAR
