BEGIN:VCALENDAR
VERSION:2.0
PRODID:SchoolNow
CALSCALE:GREGORIAN
BEGIN:VEVENT
UID:e0e590dc-8ffe-11f0-8b71-0a58a9feac02
DTSTAMP:20251216T154516Z
SUMMARY:Girl's BBall Tryout 7th gr JV
LOCATION:Main (new) gym
URL;VALUE=URI:https://www.dg58.org/he/calendar/8613975/girls-bball-tryout-7
 th-gr-jv
DTSTART:20250917T113000Z
DTEND:20250917T130000Z
END:VEVENT
END:VCALENDAR
