BEGIN:VCALENDAR
VERSION:2.0
PRODID:SchoolNow
CALSCALE:GREGORIAN
BEGIN:VEVENT
UID:e0e58b32-8ffe-11f0-90aa-0a58a9feac02
DTSTAMP:20251216T154516Z
SUMMARY:Girls BBall Tryouts 8th gr - Varsity
LOCATION:Main gym (new)
URL;VALUE=URI:https://www.dg58.org/he/calendar/8613969/girls-bball-tryouts-
 8th-gr-varsity
DTSTART:20250916T113000Z
DTEND:20250916T130000Z
END:VEVENT
END:VCALENDAR
