BEGIN:VCALENDAR
VERSION:2.0
PRODID:SchoolNow
CALSCALE:GREGORIAN
BEGIN:VEVENT
UID:e0e589fc-8ffe-11f0-9dab-0a58a9feac02
DTSTAMP:20251216T154516Z
SUMMARY:Girls BBall Tryouts 8th gr - Varsity
LOCATION:Main gym (new)
URL;VALUE=URI:https://www.dg58.org/he/calendar/8613968/girls-bball-tryouts-
 8th-gr-varsity
DTSTART:20250922T113000Z
DTEND:20250922T130000Z
END:VEVENT
END:VCALENDAR
