BEGIN:VCALENDAR
VERSION:2.0
PRODID:SchoolNow
CALSCALE:GREGORIAN
BEGIN:VEVENT
UID:34ce598c-77b2-11f0-91b1-02afb426bd59
DTSTAMP:20251216T154516Z
SUMMARY:Back to School Night A-L 4:30-5:45\, M-Z 5:45-7PM
URL;VALUE=URI:https://www.dg58.org/he/calendar/8495143/back-to-school-night
 -a-l-4-30-5-45-m-z-5-45-7pm
DTSTART:20250828T213000Z
DTEND:20250829T000000Z
END:VEVENT
END:VCALENDAR
