BEGIN:VCALENDAR
VERSION:2.0
PRODID:SchoolNow
CALSCALE:GREGORIAN
BEGIN:VEVENT
UID:34ce587e-77b2-11f0-b9ee-02afb426bd59
DTSTAMP:20251216T154516Z
SUMMARY:Cross Country practices start
LOCATION:DGN track
URL;VALUE=URI:https://www.dg58.org/he/calendar/8495142/cross-country-practi
 ces-start
DTSTART:20250825T114500Z
DTEND:20250825T123000Z
END:VEVENT
END:VCALENDAR
