BEGIN:VCALENDAR
VERSION:2.0
PRODID:SchoolNow
CALSCALE:GREGORIAN
BEGIN:VEVENT
UID:34ce5734-77b2-11f0-bd20-02afb426bd59
DTSTAMP:20251216T154516Z
SUMMARY:No School - Labor Day
URL;VALUE=URI:https://www.dg58.org/he/calendar/8495141/no-school-labor-day
DTSTART;VALUE=DATE:20250901
DTEND;VALUE=DATE:20250902
END:VEVENT
END:VCALENDAR
