BEGIN:VCALENDAR
VERSION:2.0
PRODID:SchoolNow
CALSCALE:GREGORIAN
BEGIN:VEVENT
UID:34ce53d8-77b2-11f0-941b-02afb426bd59
DTSTAMP:20251216T154516Z
SUMMARY:Picture Day
LOCATION:during gym class
URL;VALUE=URI:https://www.dg58.org/he/calendar/8495140/picture-day
DTSTART;VALUE=DATE:20250902
DTEND;VALUE=DATE:20250903
END:VEVENT
END:VCALENDAR
