BEGIN:VCALENDAR
VERSION:2.0
PRODID:SchoolNow
CALSCALE:GREGORIAN
BEGIN:VEVENT
UID:5d704828-253c-11f0-81ca-0a58a9feac02
DTSTAMP:20251216T154516Z
SUMMARY:IESA JV Girls Basketball Regionals
LOCATION:TBD
URL;VALUE=URI:https://www.dg58.org/he/calendar/8034467/iesa-jv-girls-basket
 ball-regionals
DTSTART;VALUE=DATE:20251126
DTEND;VALUE=DATE:20251127
END:VEVENT
END:VCALENDAR
