BEGIN:VCALENDAR
VERSION:2.0
PRODID:SchoolNow
CALSCALE:GREGORIAN
BEGIN:VEVENT
UID:5d70440e-253c-11f0-bcc2-0a58a9feac02
DTSTAMP:20251216T154516Z
SUMMARY:IESA Wrestling State
LOCATION:TBD
URL;VALUE=URI:https://www.dg58.org/he/calendar/8034463/iesa-wrestling-state
DTSTART;VALUE=DATE:20260313
DTEND;VALUE=DATE:20260314
END:VEVENT
END:VCALENDAR
