BEGIN:VCALENDAR
VERSION:2.0
PRODID:SchoolNow
CALSCALE:GREGORIAN
BEGIN:VEVENT
UID:5d703d4c-253c-11f0-aa20-0a58a9feac02
DTSTAMP:20251216T154516Z
SUMMARY:IESA Varsity Girls Volleyball Regionals
LOCATION:TBD
URL;VALUE=URI:https://www.dg58.org/he/calendar/8034459/iesa-varsity-girls-v
 olleyball-regionals
DTSTART;VALUE=DATE:20260307
DTEND;VALUE=DATE:20260308
END:VEVENT
END:VCALENDAR
