BEGIN:VCALENDAR
VERSION:2.0
PRODID:SchoolNow
CALSCALE:GREGORIAN
BEGIN:VEVENT
UID:5d703c52-253c-11f0-bd91-0a58a9feac02
DTSTAMP:20251216T154516Z
SUMMARY:IESA Varsity Girls Volleyball Regionals
LOCATION:TBD
URL;VALUE=URI:https://www.dg58.org/he/calendar/8034458/iesa-varsity-girls-v
 olleyball-regionals
DTSTART;VALUE=DATE:20260312
DTEND;VALUE=DATE:20260313
END:VEVENT
END:VCALENDAR
