BEGIN:VCALENDAR
VERSION:2.0
PRODID:SchoolNow
CALSCALE:GREGORIAN
BEGIN:VEVENT
UID:5d703b58-253c-11f0-983f-0a58a9feac02
DTSTAMP:20251216T154516Z
SUMMARY:IESA Scholastic Bowl Sectionals
LOCATION:TBD
URL;VALUE=URI:https://www.dg58.org/he/calendar/8034457/iesa-scholastic-bowl
 -sectionals
DTSTART;VALUE=DATE:20260504
DTEND;VALUE=DATE:20260505
END:VEVENT
END:VCALENDAR
