BEGIN:VCALENDAR
VERSION:2.0
PRODID:SchoolNow
CALSCALE:GREGORIAN
BEGIN:VEVENT
UID:5d70370c-253c-11f0-b9a6-0a58a9feac02
DTSTAMP:20251216T154516Z
SUMMARY:IESA Scholastic Bowl Regionals
LOCATION:TBD
URL;VALUE=URI:https://www.dg58.org/he/calendar/8034456/iesa-scholastic-bowl
 -regionals
DTSTART;VALUE=DATE:20260429
DTEND;VALUE=DATE:20260430
END:VEVENT
END:VCALENDAR
