BEGIN:VCALENDAR
VERSION:2.0
PRODID:SchoolNow
CALSCALE:GREGORIAN
BEGIN:VEVENT
UID:5d7035f4-253c-11f0-ae03-0a58a9feac02
DTSTAMP:20251216T154516Z
SUMMARY:IESA Wrestling Sectionals
LOCATION:TBD
URL;VALUE=URI:https://www.dg58.org/he/calendar/8034455/iesa-wrestling-secti
 onals
DTSTART;VALUE=DATE:20260307
DTEND;VALUE=DATE:20260308
END:VEVENT
END:VCALENDAR
