BEGIN:VCALENDAR
VERSION:2.0
PRODID:SchoolNow
CALSCALE:GREGORIAN
BEGIN:VEVENT
UID:5d7034a0-253c-11f0-9cc7-0a58a9feac02
DTSTAMP:20251216T154516Z
SUMMARY:IESA JV Girls Volleyball State
LOCATION:TBD
URL;VALUE=URI:https://www.dg58.org/he/calendar/8034454/iesa-jv-girls-volley
 ball-state
DTSTART;VALUE=DATE:20260313
DTEND;VALUE=DATE:20260314
END:VEVENT
END:VCALENDAR
