BEGIN:VCALENDAR
VERSION:2.0
PRODID:SchoolNow
CALSCALE:GREGORIAN
BEGIN:VEVENT
UID:5d7033ba-253c-11f0-a178-0a58a9feac02
DTSTAMP:20251216T154516Z
SUMMARY:IESA Track and Field Sectionals
LOCATION:TBD
URL;VALUE=URI:https://www.dg58.org/he/calendar/8034453/iesa-track-and-field
 -sectionals
DTSTART;VALUE=DATE:20260516
DTEND;VALUE=DATE:20260517
END:VEVENT
END:VCALENDAR
