BEGIN:VCALENDAR
VERSION:2.0
PRODID:SchoolNow
CALSCALE:GREGORIAN
BEGIN:VEVENT
UID:5d7031da-253c-11f0-895e-0a58a9feac02
DTSTAMP:20251216T154516Z
SUMMARY:IESA Varsity Boys Basketball Regionals
LOCATION:TBD
URL;VALUE=URI:https://www.dg58.org/he/calendar/8034451/iesa-varsity-boys-ba
 sketball-regionals
DTSTART;VALUE=DATE:20260124
DTEND;VALUE=DATE:20260125
END:VEVENT
END:VCALENDAR
