BEGIN:VCALENDAR
VERSION:2.0
PRODID:SchoolNow
CALSCALE:GREGORIAN
BEGIN:VEVENT
UID:5d7030f4-253c-11f0-b344-0a58a9feac02
DTSTAMP:20251216T154516Z
SUMMARY:IESA JV Girls Volleyball Regionals
LOCATION:TBD
URL;VALUE=URI:https://www.dg58.org/he/calendar/8034450/iesa-jv-girls-volley
 ball-regionals
DTSTART;VALUE=DATE:20260228
DTEND;VALUE=DATE:20260301
END:VEVENT
END:VCALENDAR
