BEGIN:VCALENDAR
VERSION:2.0
PRODID:SchoolNow
CALSCALE:GREGORIAN
BEGIN:VEVENT
UID:5d703004-253c-11f0-8883-0a58a9feac02
DTSTAMP:20251216T154516Z
SUMMARY:IESA Cross Country Sectionals
LOCATION:TBD
URL;VALUE=URI:https://www.dg58.org/he/calendar/8034449/iesa-cross-country-s
 ectionals
DTSTART;VALUE=DATE:20251011
DTEND;VALUE=DATE:20251012
END:VEVENT
END:VCALENDAR
