BEGIN:VCALENDAR
VERSION:2.0
PRODID:SchoolNow
CALSCALE:GREGORIAN
BEGIN:VEVENT
UID:5d702e2e-253c-11f0-b6e4-0a58a9feac02
DTSTAMP:20251216T154516Z
SUMMARY:IESA Track and Field State
LOCATION:TBD
URL;VALUE=URI:https://www.dg58.org/he/calendar/8034447/iesa-track-and-field
 -state
DTSTART;VALUE=DATE:20260522
DTEND;VALUE=DATE:20260523
END:VEVENT
END:VCALENDAR
