BEGIN:VCALENDAR
VERSION:2.0
PRODID:SchoolNow
CALSCALE:GREGORIAN
BEGIN:VEVENT
UID:5d701e5c-253c-11f0-ac41-0a58a9feac02
DTSTAMP:20251216T154516Z
SUMMARY:IESA JV Girls Basketball State
LOCATION:TBD
URL;VALUE=URI:https://www.dg58.org/he/calendar/8034437/iesa-jv-girls-basket
 ball-state
DTSTART;VALUE=DATE:20251211
DTEND;VALUE=DATE:20251212
END:VEVENT
END:VCALENDAR
