BEGIN:VCALENDAR
VERSION:2.0
PRODID:SchoolNow
CALSCALE:GREGORIAN
BEGIN:VEVENT
UID:5d701b0a-253c-11f0-9b11-0a58a9feac02
DTSTAMP:20251216T154516Z
SUMMARY:IESA JV Boys Basketball Sectionals
LOCATION:TBD
URL;VALUE=URI:https://www.dg58.org/he/calendar/8034434/iesa-jv-boys-basketb
 all-sectionals
DTSTART;VALUE=DATE:20260126
DTEND;VALUE=DATE:20260127
END:VEVENT
END:VCALENDAR
