BEGIN:VCALENDAR
VERSION:2.0
PRODID:SchoolNow
CALSCALE:GREGORIAN
BEGIN:VEVENT
UID:5d7014d4-253c-11f0-a032-0a58a9feac02
DTSTAMP:20251216T154516Z
SUMMARY:IESA Varsity Girls Basketball State
LOCATION:TBD
URL;VALUE=URI:https://www.dg58.org/he/calendar/8034427/iesa-varsity-girls-b
 asketball-state
DTSTART;VALUE=DATE:20251218
DTEND;VALUE=DATE:20251219
END:VEVENT
END:VCALENDAR
