BEGIN:VCALENDAR
VERSION:2.0
PRODID:SchoolNow
CALSCALE:GREGORIAN
BEGIN:VEVENT
UID:5d7013ee-253c-11f0-a145-0a58a9feac02
DTSTAMP:20251216T154516Z
SUMMARY:IESA Varsity Girls Basketball Regionals
LOCATION:TBD
URL;VALUE=URI:https://www.dg58.org/he/calendar/8034426/iesa-varsity-girls-b
 asketball-regionals
DTSTART;VALUE=DATE:20251202
DTEND;VALUE=DATE:20251203
END:VEVENT
END:VCALENDAR
