BEGIN:VCALENDAR
VERSION:2.0
PRODID:SchoolNow
CALSCALE:GREGORIAN
BEGIN:VEVENT
UID:5d70131c-253c-11f0-8690-0a58a9feac02
DTSTAMP:20251216T154516Z
SUMMARY:IESA JV Girls Volleyball Regionals
LOCATION:TBD
URL;VALUE=URI:https://www.dg58.org/he/calendar/8034425/iesa-jv-girls-volley
 ball-regionals
DTSTART;VALUE=DATE:20260305
DTEND;VALUE=DATE:20260306
END:VEVENT
END:VCALENDAR
