BEGIN:VCALENDAR
VERSION:2.0
PRODID:SchoolNow
CALSCALE:GREGORIAN
BEGIN:VEVENT
UID:5d700dcc-253c-11f0-b74b-0a58a9feac02
DTSTAMP:20251216T154516Z
SUMMARY:IESA JV Girls Basketball Sectionals
LOCATION:TBD
URL;VALUE=URI:https://www.dg58.org/he/calendar/8034419/iesa-jv-girls-basket
 ball-sectionals
DTSTART:20251204T000000Z
DTEND:20251204T010000Z
END:VEVENT
END:VCALENDAR
