BEGIN:VCALENDAR
VERSION:2.0
PRODID:SchoolNow
CALSCALE:GREGORIAN
BEGIN:VEVENT
UID:5d700c00-253c-11f0-98b1-0a58a9feac02
DTSTAMP:20251216T154516Z
SUMMARY:IESA Varsity Girls Basketball Sectionals
LOCATION:TBD
URL;VALUE=URI:https://www.dg58.org/he/calendar/8034417/iesa-varsity-girls-b
 asketball-sectionals
DTSTART:20251211T000000Z
DTEND:20251211T010000Z
END:VEVENT
END:VCALENDAR
