BEGIN:VCALENDAR
VERSION:2.0
PRODID:SchoolNow
CALSCALE:GREGORIAN
BEGIN:VEVENT
UID:5d700a34-253c-11f0-96b5-0a58a9feac02
DTSTAMP:20251216T154516Z
SUMMARY:IESA Varsity Girls Volleyball State
LOCATION:TBD
URL;VALUE=URI:https://www.dg58.org/he/calendar/8034415/iesa-varsity-girls-v
 olleyball-state
DTSTART;VALUE=DATE:20260320
DTEND;VALUE=DATE:20260321
END:VEVENT
END:VCALENDAR
