BEGIN:VCALENDAR
VERSION:2.0
PRODID:SchoolNow
CALSCALE:GREGORIAN
BEGIN:VEVENT
UID:5d70094e-253c-11f0-99f4-0a58a9feac02
DTSTAMP:20251216T154516Z
SUMMARY:IESA Varsity Girls Volleyball Sectionals
LOCATION:TBD
URL;VALUE=URI:https://www.dg58.org/he/calendar/8034414/iesa-varsity-girls-v
 olleyball-sectionals
DTSTART;VALUE=DATE:20260316
DTEND;VALUE=DATE:20260317
END:VEVENT
END:VCALENDAR
