BEGIN:VCALENDAR
VERSION:2.0
PRODID:SchoolNow
CALSCALE:GREGORIAN
BEGIN:VEVENT
UID:5d700692-253c-11f0-a55d-0a58a9feac02
DTSTAMP:20251216T154516Z
SUMMARY:Varsity Girls Basketball Tournament
LOCATION:TBD
URL;VALUE=URI:https://www.dg58.org/he/calendar/8034411/varsity-girls-basket
 ball-tournament
DTSTART:20251121T221500Z
DTEND:20251121T231500Z
END:VEVENT
END:VCALENDAR
