BEGIN:VCALENDAR
VERSION:2.0
PRODID:SchoolNow
CALSCALE:GREGORIAN
BEGIN:VEVENT
UID:5d7004c6-253c-11f0-9c8c-0a58a9feac02
DTSTAMP:20251216T154516Z
SUMMARY:Cross Country Meet
LOCATION:Lisle
URL;VALUE=URI:https://www.dg58.org/he/calendar/8034409/cross-country-meet
DTSTART:20250923T211500Z
DTEND:20250923T231500Z
END:VEVENT
END:VCALENDAR
