BEGIN:VCALENDAR
VERSION:2.0
PRODID:SchoolNow
CALSCALE:GREGORIAN
BEGIN:VEVENT
UID:5d7003d6-253c-11f0-a18c-0a58a9feac02
DTSTAMP:20251216T154516Z
SUMMARY:Soccer Game
LOCATION:Lisle
URL;VALUE=URI:https://www.dg58.org/he/calendar/8034408/soccer-game
DTSTART:20260407T211500Z
DTEND:20260407T231500Z
END:VEVENT
END:VCALENDAR
