BEGIN:VCALENDAR
VERSION:2.0
PRODID:SchoolNow
CALSCALE:GREGORIAN
BEGIN:VEVENT
UID:5d700214-253c-11f0-b418-0a58a9feac02
DTSTAMP:20251216T154516Z
SUMMARY:Girls Volleyball Game
LOCATION:Home (Competition Gym)
URL;VALUE=URI:https://www.dg58.org/he/calendar/8034406/girls-volleyball-gam
 e
DTSTART:20260202T221500Z
DTEND:20260203T001500Z
END:VEVENT
END:VCALENDAR
