BEGIN:VCALENDAR
VERSION:2.0
PRODID:SchoolNow
CALSCALE:GREGORIAN
BEGIN:VEVENT
UID:5d700052-253c-11f0-9f61-0a58a9feac02
DTSTAMP:20251216T154516Z
SUMMARY:Scholastic Bowl Match
LOCATION:Home (Library)
URL;VALUE=URI:https://www.dg58.org/he/calendar/8034404/scholastic-bowl-matc
 h
DTSTART:20260421T211500Z
DTEND:20260421T223000Z
END:VEVENT
END:VCALENDAR
