BEGIN:VCALENDAR
VERSION:2.0
PRODID:SchoolNow
CALSCALE:GREGORIAN
BEGIN:VEVENT
UID:5d6ff7ce-253c-11f0-8f5a-0a58a9feac02
DTSTAMP:20251216T154516Z
SUMMARY:Girls Basketball Game
LOCATION:Butler
URL;VALUE=URI:https://www.dg58.org/he/calendar/8034395/girls-basketball-gam
 e
DTSTART:20251030T211500Z
DTEND:20251030T231500Z
END:VEVENT
END:VCALENDAR
